BEGIN:VCALENDAR
VERSION:2.0
PRODID:-//ChamberMaster//Event Calendar 2.0//EN
METHOD:PUBLISH
X-PUBLISHED-TTL:P3D
REFRESH-INTERVAL:P3D
CALSCALE:GREGORIAN
BEGIN:VEVENT
DTSTART:20251106T210000Z
DTEND:20251106T230000Z
X-MICROSOFT-CDO-ALLDAYEVENT:FALSE
SUMMARY:Open House
DESCRIPTION:Join us to discover over 150 degree\, licensure\, and certificate programs available at the Roanoke Higher Education Center.
X-ALT-DESC;FMTTYPE=text/html:Join us to discover over 150 degree\, licensure\, and certificate programs available at the Roanoke Higher Education Center.
LOCATION:108 North Jefferson Street
UID:e.1692.7842
SEQUENCE:3
DTSTAMP:20260425T225047Z
URL:http://rcchamber.chambermaster.com/events/details/open-house-7842
END:VEVENT

END:VCALENDAR
