BEGIN:VCALENDAR
VERSION:2.0
PRODID:-//ChamberMaster//Event Calendar 2.0//EN
METHOD:PUBLISH
X-PUBLISHED-TTL:P3D
REFRESH-INTERVAL:P3D
CALSCALE:GREGORIAN
BEGIN:VEVENT
DTSTART:20251112T133000Z
DTEND:20251112T150000Z
X-MICROSOFT-CDO-ALLDAYEVENT:FALSE
SUMMARY:Fall Member Orientation
DESCRIPTION:Join our 2025 Fall Member Orientation! This onboarding meeting will be open to all of our members who could use a refresher about the perks of being a chamber member. Coffee and Treats will be provided!
X-ALT-DESC;FMTTYPE=text/html:<div class="col-sm-7 col-md-8 order-sm-first" style="box-sizing: border-box\; margin: 0px\; padding: 0px 15px\; border: 0px\; outline: 0px\; font-size: 16px\; text-size-adjust: 100%\; vertical-align: baseline\; background-image: initial\; background-position: initial\; background-size: initial\; background-repeat: initial\; background-attachment: initial\; background-origin: initial\; background-clip: initial\; position: relative\; width: 800px\; min-height: 1px\; flex: 0 0 66.6667%\; max-width: 66.6667%\; order: -1\; color: rgb(48\, 48\, 48)\; font-family: Palanquin\, Helvetica\, Arial\, Lucida\, sans-serif\;">\n<div class="row gz-event-description" itemprop="about" style="box-sizing: border-box\; margin: 0px -15px\; padding: 0px\; border: 0px\; outline: 0px\; text-size-adjust: 100%\; vertical-align: baseline\; background: transparent\; display: flex\; flex-wrap: wrap\;">\n<div class="col" style="box-sizing: border-box\; margin: 0px\; padding: 0px 15px\; border: 0px\; outline: 0px\; text-size-adjust: 100%\; vertical-align: baseline\; background: transparent\; position: relative\; width: 800px\; min-height: 1px\; flex-basis: 0px\; flex-grow: 1\; max-width: 100%\;">\n<p style="box-sizing: border-box\; margin: 0px\; padding: 0px\; border: 0px\; outline: 0px\; font-size: 14px\; text-size-adjust: 100%\; vertical-align: baseline\; background: transparent\; color: rgb(62\, 62\, 62)\; font-family: Arial\, Verdana\, Helvetica\, sans-serif\;"><span style="box-sizing: border-box\; margin: 0px\; padding: 0px\; border: 0px\; outline: 0px\; text-size-adjust: 100%\; vertical-align: baseline\; background: transparent\;"><span style="box-sizing: border-box\; margin: 0px\; padding: 0px\; border: 0px\; outline: 0px\; text-size-adjust: 100%\; vertical-align: baseline\; background: transparent\; color: black\; font-family: Helvetica\, Arial\, sans-serif\;">Join our 2025 Fall Member Orientation! This onboarding meeting will be open to all of our members who could use a refresher about the perks of being a chamber member. Coffee and Treats will be provided!</span></span></p>\n\n<p style="box-sizing: border-box\; margin: 0px 0px 1rem\; padding: 0px\; border: 0px\; outline: 0px\; text-size-adjust: 100%\; vertical-align: baseline\; background: transparent\;">&nbsp\;</p>\n</div>\n</div>\n</div>\n
LOCATION:The Salem-RoCo Chamber of Commerce 611 E Main St.\, Salem\, VA\, 24153
UID:e.1692.7758
SEQUENCE:3
DTSTAMP:20260425T015005Z
URL:http://rcchamber.chambermaster.com/events/details/fall-member-orientation-7758
END:VEVENT

END:VCALENDAR
